BEGIN:VCALENDAR
VERSION:2.0
PRODID:-//Automotive Grade Linux - ECPv6.15.20//NONSGML v1.0//EN
CALSCALE:GREGORIAN
METHOD:PUBLISH
X-WR-CALNAME:Automotive Grade Linux
X-ORIGINAL-URL:https://www.automotivelinux.org
X-WR-CALDESC:Events for Automotive Grade Linux
REFRESH-INTERVAL;VALUE=DURATION:PT1H
X-Robots-Tag:noindex
X-PUBLISHED-TTL:PT1H
BEGIN:VTIMEZONE
TZID:America/Los_Angeles
BEGIN:DAYLIGHT
TZOFFSETFROM:-0800
TZOFFSETTO:-0700
TZNAME:PDT
DTSTART:20190310T100000
END:DAYLIGHT
BEGIN:STANDARD
TZOFFSETFROM:-0700
TZOFFSETTO:-0800
TZNAME:PST
DTSTART:20191103T090000
END:STANDARD
BEGIN:DAYLIGHT
TZOFFSETFROM:-0800
TZOFFSETTO:-0700
TZNAME:PDT
DTSTART:20200308T100000
END:DAYLIGHT
BEGIN:STANDARD
TZOFFSETFROM:-0700
TZOFFSETTO:-0800
TZNAME:PST
DTSTART:20201101T090000
END:STANDARD
BEGIN:DAYLIGHT
TZOFFSETFROM:-0800
TZOFFSETTO:-0700
TZNAME:PDT
DTSTART:20210314T100000
END:DAYLIGHT
BEGIN:STANDARD
TZOFFSETFROM:-0700
TZOFFSETTO:-0800
TZNAME:PST
DTSTART:20211107T090000
END:STANDARD
END:VTIMEZONE
BEGIN:VEVENT
DTSTART;VALUE=DATE:20200107
DTEND;VALUE=DATE:20200111
DTSTAMP:20260422T095829
CREATED:20190520T210635Z
LAST-MODIFIED:20191213T083702Z
UID:2184-1578355200-1578700799@www.automotivelinux.org
SUMMARY:CES 2020
DESCRIPTION:Stop by the AGL booth in the Westgate Hotel\, booth 1815\, to check out the 2020 Toyota RAV4\, the 2020 Mazda CX-30\, and 19+ AGL demos.
URL:https://www.automotivelinux.org/event/ces-2020/
LOCATION:Las Vegas Convention Center\, Las Vegas\, NV\, United States
CATEGORIES:Automotive,Developer,Technology
ATTACH;FMTTYPE=image/png:https://www.automotivelinux.org/wp-content/uploads/sites/61/2019/05/CES-Logo_696x401.png
END:VEVENT
END:VCALENDAR