BEGIN:VCALENDAR
VERSION:2.0
PRODID:-//Automotive Grade Linux - ECPv6.15.20//NONSGML v1.0//EN
CALSCALE:GREGORIAN
METHOD:PUBLISH
X-ORIGINAL-URL:https://www.automotivelinux.org
X-WR-CALDESC:Events for Automotive Grade Linux
REFRESH-INTERVAL;VALUE=DURATION:PT1H
X-Robots-Tag:noindex
X-PUBLISHED-TTL:PT1H
BEGIN:VTIMEZONE
TZID:America/Los_Angeles
BEGIN:DAYLIGHT
TZOFFSETFROM:-0800
TZOFFSETTO:-0700
TZNAME:PDT
DTSTART:20230312T100000
END:DAYLIGHT
BEGIN:STANDARD
TZOFFSETFROM:-0700
TZOFFSETTO:-0800
TZNAME:PST
DTSTART:20231105T090000
END:STANDARD
BEGIN:DAYLIGHT
TZOFFSETFROM:-0800
TZOFFSETTO:-0700
TZNAME:PDT
DTSTART:20240310T100000
END:DAYLIGHT
BEGIN:STANDARD
TZOFFSETFROM:-0700
TZOFFSETTO:-0800
TZNAME:PST
DTSTART:20241103T090000
END:STANDARD
BEGIN:DAYLIGHT
TZOFFSETFROM:-0800
TZOFFSETTO:-0700
TZNAME:PDT
DTSTART:20250309T100000
END:DAYLIGHT
BEGIN:STANDARD
TZOFFSETFROM:-0700
TZOFFSETTO:-0800
TZNAME:PST
DTSTART:20251102T090000
END:STANDARD
END:VTIMEZONE
BEGIN:VEVENT
DTSTART;TZID=America/Los_Angeles:20241028T000000
DTEND;TZID=America/Los_Angeles:20241029T235959
DTSTAMP:20260425T070945
CREATED:20240405T143802Z
LAST-MODIFIED:20240903T164907Z
UID:4806-1730073600-1730246399@www.automotivelinux.org
SUMMARY:Automotive Linux Summit Japan
DESCRIPTION:October 28-29\, 2024 | Tokyo\, Japan \n\n\n\nCo-located with the Linux Foundation’s Open Source Summit Japan\, Automotive Linux Summit brings together open source developers\, technologists and leaders from across the automotive and tech industry to discuss new open source developments\, best practices and insights.
URL:https://www.automotivelinux.org/event/automotivelinuxsummitjapan2024/
CATEGORIES:AGL Event,Linux Foundation Event,Open Source
ATTACH;FMTTYPE=image/svg+xml:https://www.automotivelinux.org/wp-content/uploads/sites/61/2024/04/Automotive-Linux-Summit-logo-black.svg
END:VEVENT
END:VCALENDAR