BEGIN:VCALENDAR
VERSION:2.0
PRODID:-//Automotive Grade Linux - ECPv6.15.20//NONSGML v1.0//EN
CALSCALE:GREGORIAN
METHOD:PUBLISH
X-WR-CALNAME:Automotive Grade Linux
X-ORIGINAL-URL:https://www.automotivelinux.org
X-WR-CALDESC:Events for Automotive Grade Linux
REFRESH-INTERVAL;VALUE=DURATION:PT1H
X-Robots-Tag:noindex
X-PUBLISHED-TTL:PT1H
BEGIN:VTIMEZONE
TZID:America/Los_Angeles
BEGIN:DAYLIGHT
TZOFFSETFROM:-0800
TZOFFSETTO:-0700
TZNAME:PDT
DTSTART:20230312T100000
END:DAYLIGHT
BEGIN:STANDARD
TZOFFSETFROM:-0700
TZOFFSETTO:-0800
TZNAME:PST
DTSTART:20231105T090000
END:STANDARD
BEGIN:DAYLIGHT
TZOFFSETFROM:-0800
TZOFFSETTO:-0700
TZNAME:PDT
DTSTART:20240310T100000
END:DAYLIGHT
BEGIN:STANDARD
TZOFFSETFROM:-0700
TZOFFSETTO:-0800
TZNAME:PST
DTSTART:20241103T090000
END:STANDARD
BEGIN:DAYLIGHT
TZOFFSETFROM:-0800
TZOFFSETTO:-0700
TZNAME:PDT
DTSTART:20250309T100000
END:DAYLIGHT
BEGIN:STANDARD
TZOFFSETFROM:-0700
TZOFFSETTO:-0800
TZNAME:PST
DTSTART:20251102T090000
END:STANDARD
END:VTIMEZONE
BEGIN:VEVENT
DTSTART;TZID=America/Los_Angeles:20240409T080000
DTEND;TZID=America/Los_Angeles:20240411T170000
DTSTAMP:20260425T163505
CREATED:20240214T200956Z
LAST-MODIFIED:20240217T164653Z
UID:4697-1712649600-1712854800@www.automotivelinux.org
SUMMARY:Embedded World
DESCRIPTION:April 9-11\, 2024 | Nuremberg\, Germany \n\n\n\nThe AGL booth at Embedded World 2024 will feature AGL members showcasing software-defined vehicle (SDV) demos.  The AGL booth at Embedded World will be in Hall 4\, Stand 4-171 at NürnbergMesse GmbH in Nuremberg\, Germany. \n\n\n\nWant to participate in the AGL booth? Submit an application before March 1!
URL:https://www.automotivelinux.org/event/embeddedworld/
CATEGORIES:Industry Conference,Open Source
ATTACH;FMTTYPE=image/png:https://www.automotivelinux.org/wp-content/uploads/sites/61/2024/02/embedded-world.png
END:VEVENT
END:VCALENDAR