BEGIN:VCALENDAR
VERSION:2.0
PRODID:-//Automotive Grade Linux - ECPv6.15.20//NONSGML v1.0//EN
CALSCALE:GREGORIAN
METHOD:PUBLISH
X-ORIGINAL-URL:https://www.automotivelinux.org
X-WR-CALDESC:Events for Automotive Grade Linux
REFRESH-INTERVAL;VALUE=DURATION:PT1H
X-Robots-Tag:noindex
X-PUBLISHED-TTL:PT1H
BEGIN:VTIMEZONE
TZID:America/Los_Angeles
BEGIN:DAYLIGHT
TZOFFSETFROM:-0800
TZOFFSETTO:-0700
TZNAME:PDT
DTSTART:20170312T100000
END:DAYLIGHT
BEGIN:STANDARD
TZOFFSETFROM:-0700
TZOFFSETTO:-0800
TZNAME:PST
DTSTART:20171105T090000
END:STANDARD
BEGIN:DAYLIGHT
TZOFFSETFROM:-0800
TZOFFSETTO:-0700
TZNAME:PDT
DTSTART:20180311T100000
END:DAYLIGHT
BEGIN:STANDARD
TZOFFSETFROM:-0700
TZOFFSETTO:-0800
TZNAME:PST
DTSTART:20181104T090000
END:STANDARD
BEGIN:DAYLIGHT
TZOFFSETFROM:-0800
TZOFFSETTO:-0700
TZNAME:PDT
DTSTART:20190310T100000
END:DAYLIGHT
BEGIN:STANDARD
TZOFFSETFROM:-0700
TZOFFSETTO:-0800
TZNAME:PST
DTSTART:20191103T090000
END:STANDARD
END:VTIMEZONE
BEGIN:VEVENT
DTSTART;VALUE=DATE:20180619
DTEND;VALUE=DATE:20180620
DTSTAMP:20260419T064441
CREATED:20180322T190040Z
LAST-MODIFIED:20180322T190040Z
UID:1108-1529366400-1529452799@www.automotivelinux.org
SUMMARY:AGL F2F - Tokyo
DESCRIPTION:We will be holding a face-to-face meeting in Tokyo on June 19\, the day before Automotive Linux Summit. \nMore details to come on the AGL wiki.
URL:https://www.automotivelinux.org/event/agl-f2f-tokyo/
CATEGORIES:AGL Event,F2F
END:VEVENT
END:VCALENDAR