BEGIN:VCALENDAR
VERSION:2.0
PRODID:-//Automotive Grade Linux - ECPv6.15.20//NONSGML v1.0//EN
CALSCALE:GREGORIAN
METHOD:PUBLISH
X-WR-CALNAME:Automotive Grade Linux
X-ORIGINAL-URL:https://www.automotivelinux.org
X-WR-CALDESC:Events for Automotive Grade Linux
REFRESH-INTERVAL;VALUE=DURATION:PT1H
X-Robots-Tag:noindex
X-PUBLISHED-TTL:PT1H
BEGIN:VTIMEZONE
TZID:America/Los_Angeles
BEGIN:DAYLIGHT
TZOFFSETFROM:-0800
TZOFFSETTO:-0700
TZNAME:PDT
DTSTART:20170312T100000
END:DAYLIGHT
BEGIN:STANDARD
TZOFFSETFROM:-0700
TZOFFSETTO:-0800
TZNAME:PST
DTSTART:20171105T090000
END:STANDARD
BEGIN:DAYLIGHT
TZOFFSETFROM:-0800
TZOFFSETTO:-0700
TZNAME:PDT
DTSTART:20180311T100000
END:DAYLIGHT
BEGIN:STANDARD
TZOFFSETFROM:-0700
TZOFFSETTO:-0800
TZNAME:PST
DTSTART:20181104T090000
END:STANDARD
BEGIN:DAYLIGHT
TZOFFSETFROM:-0800
TZOFFSETTO:-0700
TZNAME:PDT
DTSTART:20190310T100000
END:DAYLIGHT
BEGIN:STANDARD
TZOFFSETFROM:-0700
TZOFFSETTO:-0800
TZNAME:PST
DTSTART:20191103T090000
END:STANDARD
END:VTIMEZONE
BEGIN:VEVENT
DTSTART;VALUE=DATE:20180412
DTEND;VALUE=DATE:20180414
DTSTAMP:20260419T173247
CREATED:20180322T185831Z
LAST-MODIFIED:20180322T185831Z
UID:1105-1523491200-1523663999@www.automotivelinux.org
SUMMARY:AGL F2F Meeting - Germany
DESCRIPTION:We are holding a face-to-face meeting from April 12 – 13 in Karlsruhe\, Germany. The main purpose of the meeting is to finalize the Audio\, Window Manager\, Home Screen\, Graphics\, UI\, and App Framework architecture discussions and have a blueprint for completing the work in 2018. \nAdditional details and registration information is available on the AGL wiki.
URL:https://www.automotivelinux.org/event/agl-f2f-meeting-germany/
CATEGORIES:AGL Event,F2F
END:VEVENT
END:VCALENDAR