BEGIN:VCALENDAR
VERSION:2.0
PRODID:-//Automotive Grade Linux - ECPv6.15.20//NONSGML v1.0//EN
CALSCALE:GREGORIAN
METHOD:PUBLISH
X-WR-CALNAME:Automotive Grade Linux
X-ORIGINAL-URL:https://www.automotivelinux.org
X-WR-CALDESC:Events for Automotive Grade Linux
REFRESH-INTERVAL;VALUE=DURATION:PT1H
X-Robots-Tag:noindex
X-PUBLISHED-TTL:PT1H
BEGIN:VTIMEZONE
TZID:America/Los_Angeles
BEGIN:DAYLIGHT
TZOFFSETFROM:-0800
TZOFFSETTO:-0700
TZNAME:PDT
DTSTART:20230312T100000
END:DAYLIGHT
BEGIN:STANDARD
TZOFFSETFROM:-0700
TZOFFSETTO:-0800
TZNAME:PST
DTSTART:20231105T090000
END:STANDARD
BEGIN:DAYLIGHT
TZOFFSETFROM:-0800
TZOFFSETTO:-0700
TZNAME:PDT
DTSTART:20240310T100000
END:DAYLIGHT
BEGIN:STANDARD
TZOFFSETFROM:-0700
TZOFFSETTO:-0800
TZNAME:PST
DTSTART:20241103T090000
END:STANDARD
BEGIN:DAYLIGHT
TZOFFSETFROM:-0800
TZOFFSETTO:-0700
TZNAME:PDT
DTSTART:20250309T100000
END:DAYLIGHT
BEGIN:STANDARD
TZOFFSETFROM:-0700
TZOFFSETTO:-0800
TZNAME:PST
DTSTART:20251102T090000
END:STANDARD
END:VTIMEZONE
BEGIN:VEVENT
DTSTART;TZID=America/Los_Angeles:20241010T080000
DTEND;TZID=America/Los_Angeles:20241010T170000
DTSTAMP:20260421T113218
CREATED:20240903T202708Z
LAST-MODIFIED:20240903T202800Z
UID:4944-1728547200-1728579600@www.automotivelinux.org
SUMMARY:Embedded World North America
DESCRIPTION:October 10-12\, 2024 | Austin\, TX \n\n\n\nWalt Miner\, Senior Director\, Project Management and Community for Automotive Grade Linux will be giving a talk on “Accelerating Software Defined Vehicles (SDVs) through Open Source” on October 10 at 1:30 pm CT in Ballroom C\, level 1.
URL:https://www.automotivelinux.org/event/embeddedworldna2024/
CATEGORIES:Automotive,Embedded,Industry Conference
ATTACH;FMTTYPE=image/png:https://www.automotivelinux.org/wp-content/uploads/sites/61/2024/09/Screen-Shot-2024-09-03-at-3.16.19-PM.png
END:VEVENT
END:VCALENDAR